Package: ProteoMM Version: 1.24.0 Command: /Library/Frameworks/R.framework/Resources/bin/R CMD INSTALL ProteoMM StartedAt: 2025-03-31 16:25:49 -0400 (Mon, 31 Mar 2025) EndedAt: 2025-03-31 16:25:55 -0400 (Mon, 31 Mar 2025) EllapsedTime: 6.6 seconds RetCode: 0 Status: OK