Package: ProteoMM Version: 1.24.0 Command: /Library/Frameworks/R.framework/Resources/bin/R CMD build --keep-empty-dirs --no-resave-data ProteoMM StartedAt: 2025-04-01 05:28:04 -0400 (Tue, 01 Apr 2025) EndedAt: 2025-04-01 05:28:41 -0400 (Tue, 01 Apr 2025) EllapsedTime: 37.5 seconds RetCode: 0 Status: OK PackageFile: ProteoMM_1.24.0.tar.gz PackageFileSize: 516.5 KiB