Package: ProteoDisco Version: 1.12.0 Command: /home/biocbuild/R/R/bin/R CMD check --install=check:ProteoDisco.install-out.txt --library=/home/biocbuild/R/R/site-library --no-vignettes --timings ProteoDisco_1.12.0.tar.gz StartedAt: 2025-04-01 09:37:14 -0000 (Tue, 01 Apr 2025) EndedAt: 2025-04-01 09:46:28 -0000 (Tue, 01 Apr 2025) EllapsedTime: 553.6 seconds RetCode: 0 Status: WARNINGS CheckDir: ProteoDisco.Rcheck Warnings: 2