Package: ProteoDisco Version: 1.12.0 Command: /home/biocbuild/bbs-3.20-bioc/R/bin/R CMD INSTALL ProteoDisco StartedAt: 2025-03-31 15:27:43 -0400 (Mon, 31 Mar 2025) EndedAt: 2025-03-31 15:28:36 -0400 (Mon, 31 Mar 2025) EllapsedTime: 53.0 seconds RetCode: 0 Status: OK