Package: ProteoDisco Version: 1.12.0 Command: /Library/Frameworks/R.framework/Resources/bin/R CMD check --install=check:ProteoDisco.install-out.txt --library=/Library/Frameworks/R.framework/Resources/library --no-vignettes --timings ProteoDisco_1.12.0.tar.gz StartedAt: 2025-04-02 04:51:40 -0400 (Wed, 02 Apr 2025) EndedAt: 2025-04-02 05:00:41 -0400 (Wed, 02 Apr 2025) EllapsedTime: 540.9 seconds RetCode: 0 Status: WARNINGS CheckDir: ProteoDisco.Rcheck Warnings: 2