Package: ProtGenerics Version: 1.38.0 Command: /home/biocbuild/R/R/bin/R CMD INSTALL ProtGenerics StartedAt: 2025-03-31 20:14:53 -0000 (Mon, 31 Mar 2025) EndedAt: 2025-03-31 20:15:27 -0000 (Mon, 31 Mar 2025) EllapsedTime: 33.2 seconds RetCode: 0 Status: OK