Package: ProtGenerics Version: 1.38.0 Command: /home/biocbuild/R/R/bin/R CMD build --keep-empty-dirs --no-resave-data ProtGenerics StartedAt: 2025-04-01 01:43:53 -0000 (Tue, 01 Apr 2025) EndedAt: 2025-04-01 01:43:54 -0000 (Tue, 01 Apr 2025) EllapsedTime: 1.0 seconds RetCode: 0 Status: OK PackageFile: ProtGenerics_1.38.0.tar.gz PackageFileSize: 9.976 KiB