Package: Prostar Version: 1.38.1 Command: /Library/Frameworks/R.framework/Resources/bin/R CMD check --install=check:Prostar.install-out.txt --library=/Library/Frameworks/R.framework/Resources/library --no-vignettes --timings Prostar_1.38.1.tar.gz StartedAt: 2025-04-01 07:27:29 -0400 (Tue, 01 Apr 2025) EndedAt: 2025-04-01 07:35:35 -0400 (Tue, 01 Apr 2025) EllapsedTime: 486.2 seconds RetCode: 0 Status: OK CheckDir: Prostar.Rcheck Warnings: 0