Package: Prostar Version: 1.38.1 Command: /Library/Frameworks/R.framework/Resources/bin/R CMD INSTALL Prostar StartedAt: 2025-03-31 17:05:58 -0400 (Mon, 31 Mar 2025) EndedAt: 2025-03-31 17:06:40 -0400 (Mon, 31 Mar 2025) EllapsedTime: 42.4 seconds RetCode: 0 Status: OK