Package: PrInCE Version: 1.22.0 Command: F:\biocbuild\bbs-3.20-bioc\R\bin\R.exe CMD INSTALL PrInCE StartedAt: 2025-03-31 16:30:24 -0400 (Mon, 31 Mar 2025) EndedAt: 2025-03-31 16:31:38 -0400 (Mon, 31 Mar 2025) EllapsedTime: 73.7 seconds RetCode: 0 Status: OK