Package: PoDCall Version: 1.14.0 Command: /Library/Frameworks/R.framework/Resources/bin/R CMD check --install=check:PoDCall.install-out.txt --library=/Library/Frameworks/R.framework/Resources/library --no-vignettes --timings PoDCall_1.14.0.tar.gz StartedAt: 2025-04-02 04:27:46 -0400 (Wed, 02 Apr 2025) EndedAt: 2025-04-02 04:37:03 -0400 (Wed, 02 Apr 2025) EllapsedTime: 557.3 seconds RetCode: 0 Status: OK CheckDir: PoDCall.Rcheck Warnings: 0