Package: Pirat Version: 1.0.3 Command: /home/biocbuild/R/R/bin/R CMD INSTALL Pirat StartedAt: 2025-03-31 20:23:12 -0000 (Mon, 31 Mar 2025) EndedAt: 2025-03-31 20:23:35 -0000 (Mon, 31 Mar 2025) EllapsedTime: 23.0 seconds RetCode: 0 Status: OK