Package: Pirat Version: 1.0.3 Command: F:\biocbuild\bbs-3.20-bioc\R\bin\R.exe CMD INSTALL Pirat StartedAt: 2025-03-31 16:03:55 -0400 (Mon, 31 Mar 2025) EndedAt: 2025-03-31 16:04:29 -0400 (Mon, 31 Mar 2025) EllapsedTime: 33.3 seconds RetCode: 0 Status: OK