Package: Pirat Version: 1.0.3 Command: /Library/Frameworks/R.framework/Resources/bin/R CMD check --install=check:Pirat.install-out.txt --library=/Library/Frameworks/R.framework/Resources/library --no-vignettes --timings Pirat_1.0.3.tar.gz StartedAt: 2025-04-02 04:18:15 -0400 (Wed, 02 Apr 2025) EndedAt: 2025-04-02 04:22:22 -0400 (Wed, 02 Apr 2025) EllapsedTime: 246.5 seconds RetCode: 0 Status: OK CheckDir: Pirat.Rcheck Warnings: 0