Package: Pirat Version: 1.0.3 Command: /Library/Frameworks/R.framework/Resources/bin/R CMD build --keep-empty-dirs --no-resave-data Pirat StartedAt: 2025-04-01 05:11:20 -0400 (Tue, 01 Apr 2025) EndedAt: 2025-04-01 05:12:34 -0400 (Tue, 01 Apr 2025) EllapsedTime: 74.5 seconds RetCode: 0 Status: OK PackageFile: Pirat_1.0.3.tar.gz PackageFileSize: 2.637 MiB