Package: Pigengene Version: 1.32.0 Command: /home/biocbuild/R/R/bin/R CMD check --install=check:Pigengene.install-out.txt --library=/home/biocbuild/R/R/site-library --no-vignettes --timings Pigengene_1.32.0.tar.gz StartedAt: 2025-04-01 09:25:29 -0000 (Tue, 01 Apr 2025) EndedAt: 2025-04-01 09:41:35 -0000 (Tue, 01 Apr 2025) EllapsedTime: 966.0 seconds RetCode: 0 Status: OK CheckDir: Pigengene.Rcheck Warnings: 0