Package: Pigengene Version: 1.32.0 Command: F:\biocbuild\bbs-3.20-bioc\R\bin\R.exe CMD check --no-multiarch --install=check:Pigengene.install-out.txt --library=F:\biocbuild\bbs-3.20-bioc\R\library --no-vignettes --timings Pigengene_1.32.0.tar.gz StartedAt: 2025-04-01 04:35:57 -0400 (Tue, 01 Apr 2025) EndedAt: 2025-04-01 04:48:20 -0400 (Tue, 01 Apr 2025) EllapsedTime: 743.3 seconds RetCode: 0 Status: OK CheckDir: Pigengene.Rcheck Warnings: 0