Package: Pigengene Version: 1.32.0 Command: rm -rf Pigengene.buildbin-libdir && mkdir Pigengene.buildbin-libdir && F:\biocbuild\bbs-3.20-bioc\R\bin\R.exe CMD INSTALL --build --library=Pigengene.buildbin-libdir Pigengene_1.32.0.tar.gz StartedAt: 2025-04-01 08:52:36 -0400 (Tue, 01 Apr 2025) EndedAt: 2025-04-01 08:53:28 -0400 (Tue, 01 Apr 2025) EllapsedTime: 52.1 seconds RetCode: 0 Status: OK PackageFile: Pigengene_1.32.0.zip PackageFileSize: 2.979 MiB