Package: Pigengene Version: 1.32.0 Command: /Library/Frameworks/R.framework/Resources/bin/R CMD INSTALL Pigengene StartedAt: 2025-03-31 17:59:14 -0400 (Mon, 31 Mar 2025) EndedAt: 2025-03-31 17:59:45 -0400 (Mon, 31 Mar 2025) EllapsedTime: 31.3 seconds RetCode: 0 Status: OK