Package: Pigengene Version: 1.32.0 Command: /Library/Frameworks/R.framework/Resources/bin/R CMD build --keep-empty-dirs --no-resave-data Pigengene StartedAt: 2025-04-01 05:10:33 -0400 (Tue, 01 Apr 2025) EndedAt: 2025-04-01 05:14:56 -0400 (Tue, 01 Apr 2025) EllapsedTime: 262.1 seconds RetCode: 0 Status: OK PackageFile: Pigengene_1.32.0.tar.gz PackageFileSize: 2.697 MiB