Package: PhyloProfile Version: 1.20.4 Command: /Library/Frameworks/R.framework/Resources/bin/R CMD INSTALL PhyloProfile StartedAt: 2025-03-31 15:57:45 -0400 (Mon, 31 Mar 2025) EndedAt: 2025-03-31 15:58:40 -0400 (Mon, 31 Mar 2025) EllapsedTime: 55.4 seconds RetCode: 0 Status: OK