Package: PhyloProfile Version: 1.20.4 Command: /Library/Frameworks/R.framework/Resources/bin/R CMD check --install=check:PhyloProfile.install-out.txt --library=/Library/Frameworks/R.framework/Resources/library --no-vignettes --timings PhyloProfile_1.20.4.tar.gz StartedAt: 2025-04-02 04:12:14 -0400 (Wed, 02 Apr 2025) EndedAt: 2025-04-02 04:15:39 -0400 (Wed, 02 Apr 2025) EllapsedTime: 204.5 seconds RetCode: 0 Status: OK CheckDir: PhyloProfile.Rcheck Warnings: 0