Package: PhyloProfile Version: 1.20.4 Command: /Library/Frameworks/R.framework/Resources/bin/R CMD build --keep-empty-dirs --no-resave-data PhyloProfile StartedAt: 2025-04-01 05:08:10 -0400 (Tue, 01 Apr 2025) EndedAt: 2025-04-01 05:08:58 -0400 (Tue, 01 Apr 2025) EllapsedTime: 47.9 seconds RetCode: 0 Status: OK PackageFile: PhyloProfile_1.20.4.tar.gz PackageFileSize: 1.417 MiB