Package: PhyloProfile Version: 1.20.4 Command: rm -rf PhyloProfile.buildbin-libdir && mkdir PhyloProfile.buildbin-libdir && /Users/biocbuild/BBS/utils/build-universal.sh PhyloProfile_1.20.4.tar.gz /Library/Frameworks/R.framework/Resources/bin/R PhyloProfile.buildbin-libdir StartedAt: 2025-04-02 15:37:44 -0400 (Wed, 02 Apr 2025) EndedAt: 2025-04-02 15:38:16 -0400 (Wed, 02 Apr 2025) EllapsedTime: 32.0 seconds RetCode: 0 Status: OK PackageFile: PhyloProfile_1.20.4.tgz PackageFileSize: 1.495 MiB