Package: PhosR Version: 1.16.0 Command: /home/biocbuild/R/R/bin/R CMD check --install=check:PhosR.install-out.txt --library=/home/biocbuild/R/R/site-library --no-vignettes --timings PhosR_1.16.0.tar.gz StartedAt: 2025-04-01 09:24:38 -0000 (Tue, 01 Apr 2025) EndedAt: 2025-04-01 09:32:03 -0000 (Tue, 01 Apr 2025) EllapsedTime: 444.6 seconds RetCode: 1 Status: ERROR CheckDir: PhosR.Rcheck Warnings: NA