Package: PhosR Version: 1.16.0 Command: /home/biocbuild/R/R/bin/R CMD build --keep-empty-dirs --no-resave-data PhosR StartedAt: 2025-04-01 01:35:05 -0000 (Tue, 01 Apr 2025) EndedAt: 2025-04-01 01:39:06 -0000 (Tue, 01 Apr 2025) EllapsedTime: 241.1 seconds RetCode: 0 Status: OK PackageFile: PhosR_1.16.0.tar.gz PackageFileSize: 6.778 MiB