Package: PhosR Version: 1.16.0 Command: /Library/Frameworks/R.framework/Resources/bin/R CMD INSTALL PhosR StartedAt: 2025-03-31 16:36:50 -0400 (Mon, 31 Mar 2025) EndedAt: 2025-03-31 16:37:49 -0400 (Mon, 31 Mar 2025) EllapsedTime: 59.5 seconds RetCode: 0 Status: OK