Package: PhenoGeneRanker Version: 1.14.0 Command: /Library/Frameworks/R.framework/Resources/bin/R CMD build --keep-empty-dirs --no-resave-data PhenoGeneRanker StartedAt: 2025-04-01 05:04:48 -0400 (Tue, 01 Apr 2025) EndedAt: 2025-04-01 05:11:20 -0400 (Tue, 01 Apr 2025) EllapsedTime: 392.1 seconds RetCode: 0 Status: OK PackageFile: PhenoGeneRanker_1.14.0.tar.gz PackageFileSize: 28.18 KiB