Package: PhenStat Version: 2.42.0 Command: /home/biocbuild/R/R/bin/R CMD build --keep-empty-dirs --no-resave-data PhenStat StartedAt: 2025-04-01 01:34:41 -0000 (Tue, 01 Apr 2025) EndedAt: 2025-04-01 01:35:15 -0000 (Tue, 01 Apr 2025) EllapsedTime: 34.0 seconds RetCode: 0 Status: OK PackageFile: PhenStat_2.42.0.tar.gz PackageFileSize: 675.3 KiB