Package: PhenStat Version: 2.42.0 Command: /Library/Frameworks/R.framework/Resources/bin/R CMD build --keep-empty-dirs --no-resave-data PhenStat StartedAt: 2025-04-01 05:07:12 -0400 (Tue, 01 Apr 2025) EndedAt: 2025-04-01 05:07:48 -0400 (Tue, 01 Apr 2025) EllapsedTime: 36.3 seconds RetCode: 0 Status: OK PackageFile: PhenStat_2.42.0.tar.gz PackageFileSize: 681.8 KiB