Package: PharmacoGx Version: 3.10.1 Command: /Library/Frameworks/R.framework/Resources/bin/R CMD build --keep-empty-dirs --no-resave-data PharmacoGx StartedAt: 2025-03-31 20:59:18 -0400 (Mon, 31 Mar 2025) EndedAt: 2025-03-31 21:02:45 -0400 (Mon, 31 Mar 2025) EllapsedTime: 206.6 seconds RetCode: 0 Status: OK PackageFile: PharmacoGx_3.10.1.tar.gz PackageFileSize: 4.426 MiB