Package: PharmacoGx Version: 3.10.1 Command: /Library/Frameworks/R.framework/Resources/bin/R CMD INSTALL PharmacoGx StartedAt: 2025-03-31 17:19:32 -0400 (Mon, 31 Mar 2025) EndedAt: 2025-03-31 17:20:21 -0400 (Mon, 31 Mar 2025) EllapsedTime: 49.3 seconds RetCode: 0 Status: OK