Package: PharmacoGx Version: 3.10.1 Command: /Library/Frameworks/R.framework/Resources/bin/R CMD build --keep-empty-dirs --no-resave-data PharmacoGx StartedAt: 2025-04-01 05:04:19 -0400 (Tue, 01 Apr 2025) EndedAt: 2025-04-01 05:05:56 -0400 (Tue, 01 Apr 2025) EllapsedTime: 97.2 seconds RetCode: 0 Status: OK PackageFile: PharmacoGx_3.10.1.tar.gz PackageFileSize: 4.426 MiB