Package: PhIPData Version: 1.14.0 Command: F:\biocbuild\bbs-3.20-bioc\R\bin\R.exe CMD INSTALL PhIPData StartedAt: 2025-03-31 15:51:58 -0400 (Mon, 31 Mar 2025) EndedAt: 2025-03-31 15:52:48 -0400 (Mon, 31 Mar 2025) EllapsedTime: 50.4 seconds RetCode: 0 Status: OK