Package: PhIPData Version: 1.14.0 Command: chmod a+r PhIPData -R && F:\biocbuild\bbs-3.20-bioc\R\bin\R.exe CMD build --keep-empty-dirs --no-resave-data PhIPData StartedAt: 2025-03-31 21:00:50 -0400 (Mon, 31 Mar 2025) EndedAt: 2025-03-31 21:01:48 -0400 (Mon, 31 Mar 2025) EllapsedTime: 57.7 seconds RetCode: 0 Status: OK PackageFile: PhIPData_1.14.0.tar.gz PackageFileSize: 821 KiB