Package: PhIPData Version: 1.14.0 Command: rm -rf PhIPData.buildbin-libdir && mkdir PhIPData.buildbin-libdir && F:\biocbuild\bbs-3.20-bioc\R\bin\R.exe CMD INSTALL --build --library=PhIPData.buildbin-libdir PhIPData_1.14.0.tar.gz StartedAt: 2025-04-01 08:52:07 -0400 (Tue, 01 Apr 2025) EndedAt: 2025-04-01 08:53:00 -0400 (Tue, 01 Apr 2025) EllapsedTime: 53.0 seconds RetCode: 0 Status: OK PackageFile: PhIPData_1.14.0.zip PackageFileSize: 1.171 MiB