Package: PepSetTest Version: 1.0.0 Command: F:\biocbuild\bbs-3.20-bioc\R\bin\R.exe CMD INSTALL PepSetTest StartedAt: 2025-03-31 15:52:01 -0400 (Mon, 31 Mar 2025) EndedAt: 2025-03-31 15:52:12 -0400 (Mon, 31 Mar 2025) EllapsedTime: 11.5 seconds RetCode: 0 Status: OK