Package: PepSetTest Version: 1.0.0 Command: /Library/Frameworks/R.framework/Resources/bin/R CMD build --keep-empty-dirs --no-resave-data PepSetTest StartedAt: 2025-04-01 05:01:55 -0400 (Tue, 01 Apr 2025) EndedAt: 2025-04-01 05:02:21 -0400 (Tue, 01 Apr 2025) EllapsedTime: 25.9 seconds RetCode: 0 Status: OK PackageFile: PepSetTest_1.0.0.tar.gz PackageFileSize: 248.4 KiB