Package: PepSetTest Version: 1.0.0 Command: rm -rf PepSetTest.buildbin-libdir && mkdir PepSetTest.buildbin-libdir && /Users/biocbuild/BBS/utils/build-universal.sh PepSetTest_1.0.0.tar.gz /Library/Frameworks/R.framework/Resources/bin/R PepSetTest.buildbin-libdir StartedAt: 2025-04-02 15:36:24 -0400 (Wed, 02 Apr 2025) EndedAt: 2025-04-02 15:36:29 -0400 (Wed, 02 Apr 2025) EllapsedTime: 4.5 seconds RetCode: 0 Status: OK PackageFile: PepSetTest_1.0.0.tgz PackageFileSize: 304.3 KiB