Package: Pedixplorer Version: 1.2.0 Command: /home/biocbuild/R/R/bin/R CMD INSTALL Pedixplorer StartedAt: 2025-03-31 20:45:36 -0000 (Mon, 31 Mar 2025) EndedAt: 2025-03-31 20:45:58 -0000 (Mon, 31 Mar 2025) EllapsedTime: 22.6 seconds RetCode: 0 Status: OK