Package: PeacoQC Version: 1.16.0 Command: rm -rf PeacoQC.buildbin-libdir && mkdir PeacoQC.buildbin-libdir && F:\biocbuild\bbs-3.20-bioc\R\bin\R.exe CMD INSTALL --build --library=PeacoQC.buildbin-libdir PeacoQC_1.16.0.tar.gz StartedAt: 2025-04-01 08:50:49 -0400 (Tue, 01 Apr 2025) EndedAt: 2025-04-01 08:51:17 -0400 (Tue, 01 Apr 2025) EllapsedTime: 27.6 seconds RetCode: 0 Status: OK PackageFile: PeacoQC_1.16.0.zip PackageFileSize: 1.599 MiB