Package: PathoStat Version: 1.32.0 Command: /Library/Frameworks/R.framework/Resources/bin/R CMD INSTALL PathoStat StartedAt: 2025-03-31 16:19:02 -0400 (Mon, 31 Mar 2025) EndedAt: 2025-03-31 16:20:14 -0400 (Mon, 31 Mar 2025) EllapsedTime: 72.7 seconds RetCode: 0 Status: OK