Package: PathoStat Version: 1.32.0 Command: /Library/Frameworks/R.framework/Resources/bin/R CMD check --install=check:PathoStat.install-out.txt --library=/Library/Frameworks/R.framework/Resources/library --no-vignettes --timings PathoStat_1.32.0.tar.gz StartedAt: 2025-04-01 06:58:45 -0400 (Tue, 01 Apr 2025) EndedAt: 2025-04-01 07:08:06 -0400 (Tue, 01 Apr 2025) EllapsedTime: 561.6 seconds RetCode: 0 Status: OK CheckDir: PathoStat.Rcheck Warnings: 0