Package: PathoStat Version: 1.32.0 Command: /Library/Frameworks/R.framework/Resources/bin/R CMD build --keep-empty-dirs --no-resave-data PathoStat StartedAt: 2025-04-01 04:56:23 -0400 (Tue, 01 Apr 2025) EndedAt: 2025-04-01 04:57:09 -0400 (Tue, 01 Apr 2025) EllapsedTime: 46.2 seconds RetCode: 0 Status: OK PackageFile: PathoStat_1.32.0.tar.gz PackageFileSize: 947.7 KiB