Package: Path2PPI Version: 1.36.0 Command: /home/biocbuild/R/R/bin/R CMD INSTALL Path2PPI StartedAt: 2025-03-31 20:13:28 -0000 (Mon, 31 Mar 2025) EndedAt: 2025-03-31 20:13:50 -0000 (Mon, 31 Mar 2025) EllapsedTime: 22.2 seconds RetCode: 0 Status: OK