Package: Path2PPI Version: 1.36.0 Command: /home/biocbuild/R/R/bin/R CMD check --install=check:Path2PPI.install-out.txt --library=/home/biocbuild/R/R/site-library --no-vignettes --timings Path2PPI_1.36.0.tar.gz StartedAt: 2025-04-01 09:17:29 -0000 (Tue, 01 Apr 2025) EndedAt: 2025-04-01 09:18:41 -0000 (Tue, 01 Apr 2025) EllapsedTime: 71.2 seconds RetCode: 0 Status: OK CheckDir: Path2PPI.Rcheck Warnings: 0