Package: PanomiR Version: 1.10.0 Command: /Library/Frameworks/R.framework/Resources/bin/R CMD INSTALL PanomiR StartedAt: 2025-03-31 16:17:23 -0400 (Mon, 31 Mar 2025) EndedAt: 2025-03-31 16:17:31 -0400 (Mon, 31 Mar 2025) EllapsedTime: 7.8 seconds RetCode: 0 Status: OK