Package: PanViz Version: 1.8.0 Command: /home/biocbuild/R/R/bin/R CMD INSTALL PanViz StartedAt: 2025-03-31 20:25:12 -0000 (Mon, 31 Mar 2025) EndedAt: 2025-03-31 20:25:16 -0000 (Mon, 31 Mar 2025) EllapsedTime: 4.1 seconds RetCode: 0 Status: OK