Package: PanViz Version: 1.8.0 Command: F:\biocbuild\bbs-3.20-bioc\R\bin\R.exe CMD INSTALL PanViz StartedAt: 2025-03-31 15:36:17 -0400 (Mon, 31 Mar 2025) EndedAt: 2025-03-31 15:36:36 -0400 (Mon, 31 Mar 2025) EllapsedTime: 19.6 seconds RetCode: 0 Status: OK