Package: PanViz Version: 1.8.0 Command: chmod a+r PanViz -R && F:\biocbuild\bbs-3.20-bioc\R\bin\R.exe CMD build --keep-empty-dirs --no-resave-data PanViz StartedAt: 2025-03-31 20:52:56 -0400 (Mon, 31 Mar 2025) EndedAt: 2025-03-31 20:53:14 -0400 (Mon, 31 Mar 2025) EllapsedTime: 17.8 seconds RetCode: 1 Status: ERROR PackageFile: None PackageFileSize: NA